BEGIN:VCALENDAR
VERSION:2.0
PRODID:-//Muíño do Vento - ECPv5.0.2.1//NONSGML v1.0//EN
CALSCALE:GREGORIAN
METHOD:PUBLISH
X-WR-CALNAME:Muíño do Vento
X-ORIGINAL-URL:https://muinhodovento.gal
X-WR-CALDESC:Eventos para Muíño do Vento
BEGIN:VTIMEZONE
TZID:Europe/Paris
BEGIN:DAYLIGHT
TZOFFSETFROM:+0100
TZOFFSETTO:+0200
TZNAME:CEST
DTSTART:20240331T010000
END:DAYLIGHT
BEGIN:STANDARD
TZOFFSETFROM:+0200
TZOFFSETTO:+0100
TZNAME:CET
DTSTART:20241027T010000
END:STANDARD
END:VTIMEZONE
BEGIN:VEVENT
DTSTART;TZID=Europe/Paris:20240610T173000
DTEND;TZID=Europe/Paris:20240610T193000
DTSTAMP:20260424T133222
CREATED:20240607T164757Z
LAST-MODIFIED:20240607T164757Z
UID:11869-1718040600-1718047800@muinhodovento.gal
SUMMARY:RADIO: UNHA TARDE NO MUÍÑO
DESCRIPTION:UNHA TARDE NO MUÍÑO. Luns 10 xuño\, 17:30\, dende Rádio Filispim (93.9). \nPROGRAMA 200. \n– Doar órganos\, unha das mellores decisións da miña vida. Rafa Rodríguez conversa con Merce Herrero. \n– CPPE Terra de Ferrol. Excelentes proxectos\, excelentes baristas. Silvia Picos conversa con profesorado e alumnado do Centro. \n– As Muiñeiras contan contos\, por Chus García e Marisol Seoane. \n– Estrés\, o inimigo silencioso. Unha ollada sociolóxica\, por Celia Fernández. \n– Dende o Barrio Alto\, por Roberto Taboada. \n– Outra información é posible. Muíño nas redes. \n– Sen camas\, sen pediatras… Entrevista a Susana Alaniz e Elena Teijeiro. \n
URL:https://muinhodovento.gal/evento/radio-unha-tarde-no-muino-92/
LOCATION:ASC MUIÑO DO VENTO\, Rúa Poeta Pérez Parallé S/N\, ferrol\, A Coruña\, 15401\, España
ORGANIZER;CN="Mui%C3%B1o%20do%20Vento":MAILTO:canido@muinhodovento.gal
END:VEVENT
END:VCALENDAR