BEGIN:VCALENDAR
VERSION:2.0
PRODID:-//Muíño do Vento - ECPv5.0.2.1//NONSGML v1.0//EN
CALSCALE:GREGORIAN
METHOD:PUBLISH
X-WR-CALNAME:Muíño do Vento
X-ORIGINAL-URL:https://muinhodovento.gal
X-WR-CALDESC:Eventos para Muíño do Vento
BEGIN:VTIMEZONE
TZID:Europe/Paris
BEGIN:DAYLIGHT
TZOFFSETFROM:+0100
TZOFFSETTO:+0200
TZNAME:CEST
DTSTART:20240331T010000
END:DAYLIGHT
BEGIN:STANDARD
TZOFFSETFROM:+0200
TZOFFSETTO:+0100
TZNAME:CET
DTSTART:20241027T010000
END:STANDARD
END:VTIMEZONE
BEGIN:VEVENT
DTSTART;TZID=Europe/Paris:20240524T190000
DTEND;TZID=Europe/Paris:20240524T203000
DTSTAMP:20260424T165829
CREATED:20240524T162736Z
LAST-MODIFIED:20240524T162736Z
UID:11817-1716577200-1716582600@muinhodovento.gal
SUMMARY:FORO GALEGO-LITERARIO CANIDO
DESCRIPTION: \n
URL:https://muinhodovento.gal/evento/foro-galego-literario-canido/
LOCATION:ASC MUIÑO DO VENTO\, Rúa Poeta Pérez Parallé S/N\, ferrol\, A Coruña\, 15401\, España
ORGANIZER;CN="Mui%C3%B1o%20do%20Vento":MAILTO:canido@muinhodovento.gal
END:VEVENT
END:VCALENDAR