BEGIN:VCALENDAR
VERSION:2.0
PRODID:-//Muíño do Vento - ECPv5.0.2.1//NONSGML v1.0//EN
CALSCALE:GREGORIAN
METHOD:PUBLISH
X-WR-CALNAME:Muíño do Vento
X-ORIGINAL-URL:https://muinhodovento.gal
X-WR-CALDESC:Eventos para Muíño do Vento
BEGIN:VTIMEZONE
TZID:Europe/Paris
BEGIN:DAYLIGHT
TZOFFSETFROM:+0100
TZOFFSETTO:+0200
TZNAME:CEST
DTSTART:20240331T010000
END:DAYLIGHT
BEGIN:STANDARD
TZOFFSETFROM:+0200
TZOFFSETTO:+0100
TZNAME:CET
DTSTART:20241027T010000
END:STANDARD
BEGIN:DAYLIGHT
TZOFFSETFROM:+0100
TZOFFSETTO:+0200
TZNAME:CEST
DTSTART:20250330T010000
END:DAYLIGHT
BEGIN:STANDARD
TZOFFSETFROM:+0200
TZOFFSETTO:+0100
TZNAME:CET
DTSTART:20251026T010000
END:STANDARD
END:VTIMEZONE
BEGIN:VEVENT
DTSTART;VALUE=DATE:20240927
DTEND;VALUE=DATE:20250517
DTSTAMP:20260424T094728
CREATED:20240910T075809Z
LAST-MODIFIED:20240910T075809Z
UID:12103-1727395200-1747439999@muinhodovento.gal
SUMMARY:II FORO LITERARIO COORDINADO POR ANTÓN CORTIZAS
DESCRIPTION: \n
URL:https://muinhodovento.gal/evento/ii-foro-literario-coordinado-por-anton-cortizas/
LOCATION:ASC MUIÑO DO VENTO\, Rúa Poeta Pérez Parallé S/N\, ferrol\, A Coruña\, 15401\, España
ORGANIZER;CN="Mui%C3%B1o%20do%20Vento":MAILTO:canido@muinhodovento.gal
END:VEVENT
BEGIN:VEVENT
DTSTART;TZID=Europe/Paris:20241206T203000
DTEND;TZID=Europe/Paris:20241231T223000
DTSTAMP:20260424T094728
CREATED:20241203T090702Z
LAST-MODIFIED:20241203T090722Z
UID:12466-1733517000-1735684200@muinhodovento.gal
SUMMARY:EXPOSICIÓN DE PINTURA: "Cor e xuventude" de Sofía Piñeiro
DESCRIPTION: \n
URL:https://muinhodovento.gal/evento/expxposicion-de-pintura-cor-e-xuventude-de-sofia-pineiro/
LOCATION:Sociedade Deportiva e Recreativa Canido\, R/Insua\, Ferrol\, Coruña\, 15401\, España
END:VEVENT
BEGIN:VEVENT
DTSTART;TZID=Europe/Paris:20241221T113000
DTEND;TZID=Europe/Paris:20241221T123000
DTSTAMP:20260424T094728
CREATED:20241220T155549Z
LAST-MODIFIED:20241220T155549Z
UID:12566-1734780600-1734784200@muinhodovento.gal
SUMMARY:ROTEIRO POLO PARQUE con Mª JOSÉ LEIRA
DESCRIPTION: \n
URL:https://muinhodovento.gal/evento/roteiro-polo-parque-con-ma-jose-leira/
LOCATION:ASC MUIÑO DO VENTO\, Rúa Poeta Pérez Parallé S/N\, ferrol\, A Coruña\, 15401\, España
ORGANIZER;CN="Mui%C3%B1o%20do%20Vento":MAILTO:canido@muinhodovento.gal
END:VEVENT
BEGIN:VEVENT
DTSTART;TZID=Europe/Paris:20241221T190000
DTEND;TZID=Europe/Paris:20241221T200000
DTSTAMP:20260424T094728
CREATED:20241220T155345Z
LAST-MODIFIED:20241220T155345Z
UID:12563-1734807600-1734811200@muinhodovento.gal
SUMMARY:TEATRO : HEROÍNAS COTÍAS EN COVAS
DESCRIPTION: \n
URL:https://muinhodovento.gal/evento/teatro-heroinas-cotias-en-covas/
LOCATION:ASC MUIÑO DO VENTO\, Rúa Poeta Pérez Parallé S/N\, ferrol\, A Coruña\, 15401\, España
ORGANIZER;CN="Mui%C3%B1o%20do%20Vento":MAILTO:canido@muinhodovento.gal
END:VEVENT
END:VCALENDAR