BEGIN:VCALENDAR
VERSION:2.0
PRODID:-//Muíño do Vento - ECPv5.0.2.1//NONSGML v1.0//EN
CALSCALE:GREGORIAN
METHOD:PUBLISH
X-WR-CALNAME:Muíño do Vento
X-ORIGINAL-URL:https://muinhodovento.gal
X-WR-CALDESC:Eventos para Muíño do Vento
BEGIN:VTIMEZONE
TZID:Europe/Paris
BEGIN:DAYLIGHT
TZOFFSETFROM:+0100
TZOFFSETTO:+0200
TZNAME:CEST
DTSTART:20240331T010000
END:DAYLIGHT
BEGIN:STANDARD
TZOFFSETFROM:+0200
TZOFFSETTO:+0100
TZNAME:CET
DTSTART:20241027T010000
END:STANDARD
BEGIN:DAYLIGHT
TZOFFSETFROM:+0100
TZOFFSETTO:+0200
TZNAME:CEST
DTSTART:20250330T010000
END:DAYLIGHT
BEGIN:STANDARD
TZOFFSETFROM:+0200
TZOFFSETTO:+0100
TZNAME:CET
DTSTART:20251026T010000
END:STANDARD
END:VTIMEZONE
BEGIN:VEVENT
DTSTART;VALUE=DATE:20240927
DTEND;VALUE=DATE:20250517
DTSTAMP:20260424T112432
CREATED:20240910T075809Z
LAST-MODIFIED:20240910T075809Z
UID:12103-1727395200-1747439999@muinhodovento.gal
SUMMARY:II FORO LITERARIO COORDINADO POR ANTÓN CORTIZAS
DESCRIPTION: \n
URL:https://muinhodovento.gal/evento/ii-foro-literario-coordinado-por-anton-cortizas/
LOCATION:ASC MUIÑO DO VENTO\, Rúa Poeta Pérez Parallé S/N\, ferrol\, A Coruña\, 15401\, España
ORGANIZER;CN="Mui%C3%B1o%20do%20Vento":MAILTO:canido@muinhodovento.gal
END:VEVENT
BEGIN:VEVENT
DTSTART;VALUE=DATE:20241122
DTEND;VALUE=DATE:20241209
DTSTAMP:20260424T112432
CREATED:20241121T165704Z
LAST-MODIFIED:20241121T165704Z
UID:12399-1732233600-1733702399@muinhodovento.gal
SUMMARY:EXPOSICIÓN: Música en armonía
DESCRIPTION: \n
URL:https://muinhodovento.gal/evento/exposicion-musica-en-armonia/
LOCATION:Sociedade Deportiva e Recreativa Canido\, R/Insua\, Ferrol\, Coruña\, 15401\, España
END:VEVENT
BEGIN:VEVENT
DTSTART;VALUE=DATE:20241122
DTEND;VALUE=DATE:20241130
DTSTAMP:20260424T112432
CREATED:20241121T170029Z
LAST-MODIFIED:20241121T170029Z
UID:12405-1732233600-1732924799@muinhodovento.gal
SUMMARY:FINDE TEATREIRO
DESCRIPTION: \n
URL:https://muinhodovento.gal/evento/finde-teatreiro-2/
LOCATION:ASC MUIÑO DO VENTO\, Rúa Poeta Pérez Parallé S/N\, ferrol\, A Coruña\, 15401\, España
ORGANIZER;CN="Mui%C3%B1o%20do%20Vento":MAILTO:canido@muinhodovento.gal
END:VEVENT
BEGIN:VEVENT
DTSTART;TZID=Europe/Paris:20241122T203000
DTEND;TZID=Europe/Paris:20241122T213000
DTSTAMP:20260424T112432
CREATED:20241120T165117Z
LAST-MODIFIED:20241120T165117Z
UID:12377-1732307400-1732311000@muinhodovento.gal
SUMMARY:Teatreiras do Muíño: Heroínas cotiás en Neda
DESCRIPTION: \n
URL:https://muinhodovento.gal/evento/teatreiras-do-muino-heroinas-cotias-en-neda/
LOCATION:A Coruña
ORGANIZER;CN="Mui%C3%B1o%20do%20Vento":MAILTO:canido@muinhodovento.gal
END:VEVENT
END:VCALENDAR